BEGIN:VCALENDAR
VERSION:2.0
PRODID:-//Jamestown RI Democrats - ECPv6.15.20//NONSGML v1.0//EN
CALSCALE:GREGORIAN
METHOD:PUBLISH
X-ORIGINAL-URL:https://jamestownridemocrats.org
X-WR-CALDESC:Events for Jamestown RI Democrats
REFRESH-INTERVAL;VALUE=DURATION:PT1H
X-Robots-Tag:noindex
X-PUBLISHED-TTL:PT1H
BEGIN:VTIMEZONE
TZID:UTC
BEGIN:STANDARD
TZOFFSETFROM:+0000
TZOFFSETTO:+0000
TZNAME:UTC
DTSTART:20250101T000000
END:STANDARD
END:VTIMEZONE
BEGIN:VEVENT
DTSTART;TZID=UTC:20260328T100000
DTEND;TZID=UTC:20260328T113000
DTSTAMP:20260419T151708
CREATED:20260315T122112Z
LAST-MODIFIED:20260316T154201Z
UID:1689-1774692000-1774697400@jamestownridemocrats.org
SUMMARY:No Kings Rally Middletown
DESCRIPTION:JOIN THIS MIDDLETOWN EVENT IN THE MORNING!! \n\n\nTime: Saturday\, March 28 FROM 10 – 11:30am EDT\nLocation: Pottsy Field\, 600 W Main Rd.\, Middletown\, RI 02842\n\nStay tuned for Jamestown & other Rhode Island locations & details.
URL:https://jamestownridemocrats.org/event/no-kings-rally-2/
ATTACH;FMTTYPE=image/png:https://jamestownridemocrats.org/wp-content/uploads/2026/03/Screen-Shot-2026-03-13-at-5.46.07-PM.png
END:VEVENT
BEGIN:VEVENT
DTSTART;TZID=UTC:20260328T130000
DTEND;TZID=UTC:20260328T140000
DTSTAMP:20260419T151708
CREATED:20260316T154009Z
LAST-MODIFIED:20260316T154136Z
UID:1698-1774702800-1774706400@jamestownridemocrats.org
SUMMARY:No Kings Rally Jamestown
DESCRIPTION:JOIN THIS JAMESTOWN EVENT IN THE AFTERNOON!! \n\n\nTime: Saturday\, March 28 FROM 1 – 2:00pm\nLocation: East Ferry Memorial Square\, Jamestown\, RI 02835
URL:https://jamestownridemocrats.org/event/no-kings-rally/
ATTACH;FMTTYPE=image/png:https://jamestownridemocrats.org/wp-content/uploads/2026/03/Screen-Shot-2026-03-13-at-5.46.07-PM.png
END:VEVENT
END:VCALENDAR